BEGIN:VCALENDAR
VERSION:2.0
PRODID:-//wp-events-plugin.com//7.2.3.1//EN
TZID:Europe/Copenhagen
X-WR-TIMEZONE:Europe/Copenhagen
BEGIN:VEVENT
UID:453@botaniskforening.dk
DTSTART;TZID=Europe/Copenhagen;VALUE=DATE:20210630
DTEND;TZID=Europe/Copenhagen;VALUE=DATE:20210705
DTSTAMP:20210608T140126Z
URL:https://botaniskforening.dk/arrangement/thy-og-vester-hanherred/
SUMMARY:Aflyst! Thy og Vester Hanherred
DESCRIPTION:Turen er desværre aflyst. \n\nNordisk\, botanisk ekskursion ti
 l Nordvestjylland\n\nEfter aflysning af fælles nordisk\, botanisk ekskurs
 ion til NØ-Fyn i 2020 pga Corona står Danmark i 2021 for at videreføre 
 traditionen indenfor samarbejdet mellem de nordiske\, botaniske foreninger
  med en årlig\, fælles nordisk ekskursion. Turen går nu til det nordves
 tlige Jylland med landsdelene Thy og Vester Hanherred.\n\nDer må desværr
 e tages et vist forbehold for\, hvordan Corona-situationen er til sommer 2
 021\, men vi håber selvfølgelig\, at pandemien til den tid er så meget 
 under kontrol\, at turen kan gennemføres!\n\nThy og Hanherred rummer en v
 arieret flora med mange forskellige naturtyper mellem Vesterhavs-kystens k
 litter\, heder og plantager og landet ned mod Limfjorden. Kalkforekomster 
 i landsdelen giver spændende skrænter og kær med kalk-elskende flora.\n
 \nIndkvartering sker på Thy Event- og Naturcenter DK-7741 Frøstrup\n\nPr
 is med logi og fuld kost er 3900\,- Dkr\; tillæg for enkeltværelse 500\,
 - Dkr. Hertil kommer transport i privatbiler på ekskursionerne\, som afre
 gnes mellem passagererne i de enkelte køretøjer.\n\nEkskursionsledelse: 
 klitplantør\, projektleder Ib Nord Nielsen og biologerne\, lektor Jørgen
  Nordkvist og Claus Helweg Ovesen (helweg.ovesen@get2net.dk\; bestyrelsesm
 edlem i DBF). Hertil kommer  bistand fra andre botanikere i landsdelen og
  personale ved Nationalpark Thy.\nTilmeldingen er lukket\n&nbsp\;\n\nDer e
 r plads til ca. 10-15 deltagere fra hvert nordisk land. Vi vil naturligvis
  her prioritere nordisk deltagelse. Oplys vedr. evt. ønske om enkeltvære
 lse og om medbragt bil og evt. ledige pladser\, da vi tænker at transport
  sker i privatbiler. Tidligt i 2021 udarbejder vi en deltagerliste (og evt
 . venteliste)\, som tilsendes dem\, som har tilmeldt sig. Deltagerne skal 
 så først i marts indbetale et depositum på 1000\,- Dkr.\n\nUdvalg af lo
 kaliteter med nogle forekommende plantearter\n\n1\nKlim Bjerg\nDanienkalk 
 m.m.\nKlit Limurt (Silene otites)\, Aks-ærenpris (Veronica spicata)\, Hol
 landsk Hullæbe (Epipactis helleborine ssp. neerlandica)\, Glat Snylterod(
 Monotropa hypopitys ssp. hypophegea)\n\n2\nBulbjerg m.fl.\nDanienkalk\nBlo
 drød Storkenæb (Geranium sanguineum)\, Skavgræs (Equisetum hiemale)\, K
 lit-Siv (Juncus arcticus ssp. balticus)\, Plettet Gøgeurt (Dactylorhiza m
 aculata ssp. maculata)\, Purpur-Gøgeurt (Dactylorhiza majalis ssp. purpur
 ella)\, Slangetunge (Ophioglossum vulgatum)\, Tvebo Star (Carex dioica)\,
  Butfinnet Mangeløv (Dryopteris cristata)\, Forskelligbladet Tidsel (Cirs
 ium heterophyllum).\n\n3\nGlæde (Nær Bulbjerg)\nKlithede\, sø og kær\n
 Thy-Gøgeurt (Dactylorhiza majalis ssp. calcifugiens)\, Gifttyde (Cicuta v
 irosa)\, Blærerod sp. (Utricularia sp.).\n\n4\nLild Strandkær\nLobelies
 ø\nSyl-Firling (Sagina subulata)\, Rundbladet Soldug (Drosera rotundifoli
 a)\, Tvepibet Lobelie (L.dortmanna)\, Strandbo (Litorella uniflora)\, Thy
 -Gøgeurt (D. majalis ssp. calcifugens)\n\n5\nVejlerne\nRigkær m.m.\nKær
 -Fnokurt (Tephroseris palustris)\, Plettet Gøgeurt (D. maculata ssp. macu
 lata) \, Purpur-Gøgeurt (D. majalis ssp. purpurella)\, Lav Skorsoner (Sco
 rzonera humilis)\, Festgræs (Hierochloe odorata).\n\n6\nHanstholmknuden 
 Ved Hanstholm Fyr Kællingdal\nFebbersted Slugten\nKalkskrænter\nSkotsk 
 Lostilk (Levisticum scoticum)\, Skavgræs (Equisetum hiemale)\, Blodrød S
 torkenæb (Geranium sanguineum)\, Lav Tidsel (Circium acaulis)\, Takkekla
 p (Bunias orientalis)\, Eng-Havre (Helictotrichon pratense)\, Plettet Kong
 epen (Hypochoeris maculata)\, Dansk Kambunke (Koeleria pyramidata)\, Bakke
 tidsel (Carlina vulgaris)\, Bakke-Fnokurt (Tephroseris integrifolia)\, Hvi
 dgrå Draba (Draba incana)\, Smalbægret Ensian (Gentianella amarella).\n
 \n7\nKystvejen\nStrækningen Hanstholm - Klitmøller\nKlitnaturtyper\nSkot
 sk Lostilk (L.s.)\, Strand-Snerle (Calystegia soldanella).\n\n8\nKvadderk
 ær\nKlithede og rigkær\nPlettet Gøgeurt\, Sump-Hullæbe\, Vibefedt (Pin
 guicula vulgaris)\, Vild Hør (Linum catharticum)\, Dværgulvefod (Selagin
 ella)\, Fåblomstret Sumpstrå (Eleocharis quinqueflora)\, Tvebo Star (Ca
 rex dioica)\, Loppe-Star (Carex pulicaris)\, Eng-Troldurt (Pedicularis pal
 ustris ssp. palustris)\, Kær-Dunbregne (Thelypteris palustris)\, Sump-Hul
 læbe (Epipactis palustris)\, Kødfarvet Gøgeurt (Dactylorhiza incarnata)
 .\n\n9\nVandet og Nystrup Klitplantage\nPlantage inkl. skovsump\nKnærod 
 (Goodyera repens)\, Kødfarvet Gøgeurt (Dactylorhiza incarnata)\, Pengebl
 adet Fredløs\, Linnæa (L. boralis)\, Hjertebladet Fliglæbe (Neottia cor
 data)\, Ægbladet Fliglæbe (Neottia ovata).\n\n10\nVangså Klithede\nWoll
 es Hul m.fl.\nFugtige klitlavning og lobeliesø\nHjertelæbe (Hammarbya pa
 ludosa)\, Langbladet Soldug (Drocera anglica)\, Tranebær (Oxycoccus)\, Be
 nbræk (Narthecium ossifragum)\, Tvepibet Lobelie (L. dortmanna)\, Svømme
 nde Sumpskærm (Apium inundatum)\, Strandbo (Litorella uniflora)\, Mangest
 ænglet Sumpstrå (Eleocharis multicaulis)\, Fin Bunke (Deschampsia setace
 a)\, Søpryd (Baldellia ranunculoides).\n\n&nbsp\;
CATEGORIES:Aflyst,Større ture
LOCATION:Thy Event & Naturcenter\, Kærupvej 9\, 7741 Frøstrup\, Kærupvej
  9\, Frøstrup\, 7741\, Denmark
X-APPLE-STRUCTURED-LOCATION;VALUE=URI;X-ADDRESS=Kærupvej 9\, Frøstrup\, 7
 741\, Denmark;X-APPLE-RADIUS=100;X-TITLE=Thy Event & Naturcenter\, Kærupv
 ej 9\, 7741 Frøstrup:geo:0,0
END:VEVENT
BEGIN:VTIMEZONE
TZID:Europe/Copenhagen
X-LIC-LOCATION:Europe/Copenhagen
BEGIN:DAYLIGHT
DTSTART:20210328T030000
TZOFFSETFROM:+0100
TZOFFSETTO:+0200
TZNAME:CEST
END:DAYLIGHT
END:VTIMEZONE
END:VCALENDAR