BEGIN:VCALENDAR
VERSION:2.0
PRODID:-//wp-events-plugin.com//7.2.3.1//EN
TZID:Europe/Copenhagen
X-WR-TIMEZONE:Europe/Copenhagen
BEGIN:VEVENT
UID:543@botaniskforening.dk
DTSTART;TZID=Europe/Copenhagen;VALUE=DATE:20211122
DTEND;TZID=Europe/Copenhagen;VALUE=DATE:20211123
DTSTAMP:20211121T193417Z
URL:https://botaniskforening.dk/arrangement/test-arrangement/
SUMMARY:Test arrangement
DESCRIPTION:Tester arrangementer
CATEGORIES:Hovedbestyrelsen
END:VEVENT
BEGIN:VTIMEZONE
TZID:Europe/Copenhagen
X-LIC-LOCATION:Europe/Copenhagen
BEGIN:STANDARD
DTSTART:20211031T020000
TZOFFSETFROM:+0200
TZOFFSETTO:+0100
TZNAME:CET
END:STANDARD
END:VTIMEZONE
END:VCALENDAR