BEGIN:VCALENDAR
VERSION:2.0
PRODID:-//wp-events-plugin.com//7.2.3.1//EN
TZID:Europe/Copenhagen
X-WR-TIMEZONE:Europe/Copenhagen
BEGIN:VEVENT
UID:923@botaniskforening.dk
DTSTART;TZID=Europe/Copenhagen:20270205T100000
DTEND;TZID=Europe/Copenhagen:20270205T120000
DTSTAMP:20260215T201947Z
URL:https://botaniskforening.dk/arrangement/test-arrangement-2/
SUMMARY:Test arrangement
DESCRIPTION:
LOCATION:Et test sted\, Jasminallé 25\, Videbæk\, Denmark
X-APPLE-STRUCTURED-LOCATION;VALUE=URI;X-ADDRESS=Jasminallé 25\, Videbæk\,
  Denmark;X-APPLE-RADIUS=100;X-TITLE=Et test sted:geo:0,0
END:VEVENT
BEGIN:VTIMEZONE
TZID:Europe/Copenhagen
X-LIC-LOCATION:Europe/Copenhagen
BEGIN:STANDARD
DTSTART:20261025T020000
TZOFFSETFROM:+0200
TZOFFSETTO:+0100
TZNAME:CET
END:STANDARD
END:VTIMEZONE
END:VCALENDAR