BEGIN:VCALENDAR
VERSION:2.0
PRODID:-//wp-events-plugin.com//7.2.3.1//EN
TZID:Europe/Copenhagen
X-WR-TIMEZONE:Europe/Copenhagen
BEGIN:VEVENT
UID:636@botaniskforening.dk
DTSTART;TZID=Europe/Copenhagen:20231021T130000
DTEND;TZID=Europe/Copenhagen:20231021T160000
DTSTAMP:20230108T211903Z
URL:https://botaniskforening.dk/arrangement/svampetur-til-roedme-svinehave
 r-i-egeberg-bakker/
SUMMARY:Svampetur til Rødme Svinehaver i Egeberg Bakker
DESCRIPTION:Rødme Svinehaver er Fyns bedste overdrev\, selv om Guldblomme 
 nu er en aftagende art. Fungaen er artsrig med mulighed for blåhatte\, jo
 rdtunger og køllesvampe foruden Spids Nøgenhat og velkendte skovsvampe u
 nder den spredte trævækst. Svinehaverne er en voks-hattelokalitet af int
 ernational betydning med mindst 23 kendte arter af Vokshat\, inkl. dadlen 
 og den knaldrøde.\n\nVandtæt fodtøj anbefales\, da her også er interes
 sante mosepartier.\n\nDe fundne svampe gennemgås efter turen på p-pladse
 ns bord- og bænkearrangement\, hvis det står der endnu.\n\nMedbring: evt
 . en lille kurv\, en lovlig lommekniv og svampebog.\n\nMødested: P-pladse
 n 500 m mod vest ad Tørvelong\, der er en sidevej til Alpevej syd for lan
 dsbyen Egebjerg
CATEGORIES:Fynskredsen
END:VEVENT
BEGIN:VTIMEZONE
TZID:Europe/Copenhagen
X-LIC-LOCATION:Europe/Copenhagen
BEGIN:DAYLIGHT
DTSTART:20230326T030000
TZOFFSETFROM:+0100
TZOFFSETTO:+0200
TZNAME:CEST
END:DAYLIGHT
END:VTIMEZONE
END:VCALENDAR