BEGIN:VCALENDAR
VERSION:2.0
PRODID:-//wp-events-plugin.com//7.2.3.1//EN
TZID:Europe/Copenhagen
X-WR-TIMEZONE:Europe/Copenhagen
BEGIN:VEVENT
UID:553@botaniskforening.dk
DTSTART;TZID=Europe/Copenhagen:20220516T170000
DTEND;TZID=Europe/Copenhagen:20220516T181500
DTSTAMP:20220102T141929Z
URL:https://botaniskforening.dk/arrangement/spiselige-planter-og-andre-for
 aarsplanter-v-vilhelmsborg/
SUMMARY:Spiselige planter og andre forårsplanter v. Vilhelmsborg
DESCRIPTION:Tilmelding på mail: mail@evakullberg.dk.\n\nOBS evt. afbud ti
 l mailadressen eller på 21698223.
CATEGORIES:Jyllandskredsen
LOCATION:Vilhelmsborg\, ved Restaurant Mejeriet\, Bedervej 101\, 5320 Mårs
 let\, Bedervej 101\, Mårslet\, Denmark
X-APPLE-STRUCTURED-LOCATION;VALUE=URI;X-ADDRESS=Bedervej 101\, Mårslet\, D
 enmark;X-APPLE-RADIUS=100;X-TITLE=Vilhelmsborg\, ved Restaurant Mejeriet\,
  Bedervej 101\, 5320 Mårslet:geo:0,0
END:VEVENT
BEGIN:VTIMEZONE
TZID:Europe/Copenhagen
X-LIC-LOCATION:Europe/Copenhagen
BEGIN:DAYLIGHT
DTSTART:20220327T030000
TZOFFSETFROM:+0100
TZOFFSETTO:+0200
TZNAME:CEST
END:DAYLIGHT
END:VTIMEZONE
END:VCALENDAR