BEGIN:VCALENDAR
VERSION:2.0
PRODID:-//wp-events-plugin.com//7.2.3.1//EN
TZID:Europe/Copenhagen
X-WR-TIMEZONE:Europe/Copenhagen
BEGIN:VEVENT
UID:935@botaniskforening.dk
DTSTART;TZID=Europe/Copenhagen;VALUE=DATE:20260829
DTEND;TZID=Europe/Copenhagen;VALUE=DATE:20260831
DTSTAMP:20260324T174134Z
URL:https://botaniskforening.dk/arrangement/hovedbestyrelsesweekend/
SUMMARY:Hovedbestyrelsesweekend
DESCRIPTION:
CATEGORIES:Hovedbestyrelsen
END:VEVENT
BEGIN:VTIMEZONE
TZID:Europe/Copenhagen
X-LIC-LOCATION:Europe/Copenhagen
BEGIN:DAYLIGHT
DTSTART:20260329T030000
TZOFFSETFROM:+0100
TZOFFSETTO:+0200
TZNAME:CEST
END:DAYLIGHT
END:VTIMEZONE
END:VCALENDAR