BEGIN:VCALENDAR
VERSION:2.0
PRODID:-//wp-events-plugin.com//7.2.3.1//EN
TZID:Europe/Copenhagen
X-WR-TIMEZONE:Europe/Copenhagen
BEGIN:VEVENT
UID:602@botaniskforening.dk
DTSTART;TZID=Europe/Copenhagen:20230123T163000
DTEND;TZID=Europe/Copenhagen:20230123T193000
DTSTAMP:20221214T205842Z
URL:https://botaniskforening.dk/arrangement/hovedbestyrelsesmoede-22/
SUMMARY:Hovedbestyrelsesmøde
DESCRIPTION:Fysisk møde på Fyn
CATEGORIES:Hovedbestyrelsen
END:VEVENT
BEGIN:VTIMEZONE
TZID:Europe/Copenhagen
X-LIC-LOCATION:Europe/Copenhagen
BEGIN:STANDARD
DTSTART:20221030T020000
TZOFFSETFROM:+0200
TZOFFSETTO:+0100
TZNAME:CET
END:STANDARD
END:VTIMEZONE
END:VCALENDAR