BEGIN:VCALENDAR
VERSION:2.0
PRODID:-//wp-events-plugin.com//7.2.3.1//EN
TZID:Europe/Copenhagen
X-WR-TIMEZONE:Europe/Copenhagen
BEGIN:VEVENT
UID:111@botaniskforening.dk
DTSTART;TZID=Europe/Copenhagen;VALUE=DATE:20170811
DTEND;TZID=Europe/Copenhagen;VALUE=DATE:20170815
DTSTAMP:20170420T152036Z
URL:https://botaniskforening.dk/arrangement/hojsommerekskursion-til-laeso/
SUMMARY:Højsommerekskursion til Læsø
DESCRIPTION:På nedenstående link finder du information om højsommereksku
 rsionen.\n\nStatus pr. [last-modified datef="j. M o" format="%date%"]: all
 e pladser er optaget\, men du kan blive skrevet på venteliste. Kontakt Pe
 ter Wind (Se tilmelding).\n\nHøjsommerekskursionen er naturligvis for all
 e foreningensmedlemmer.\n\nHent beskrivelse af højsommerekskursionen som 
 PDF.\n\n\n\n\nDansk Botanisk Forening inviterer hermed til årets højsomm
 erekskursion til Læsø. Med sin mangfoldige og uberørte natur hører Læ
 sø til i den absolutte særklasse\, og mange usædvanlige planter findes 
 her. Turens fokus vil være at udforske øens mange naturtyper\, bl.a. str
 andenge\, klitheder\, kær mm.\n\nPrisen for de 4 dage er 2825/2725/2625 k
 r. pr deltager/1800 kr. pr studerende i et dobbeltværelse ved henholdsvis
  35/40/45 deltagere. Ønskes enkeltværelse eller værelser af typen A50/B
 60 tillægges 375 kr. - du kan læse mere om værelsestyperne på feriecen
 trets hjemmeside.\n\nBeløbet dækker færge tur/retur (fra Frederikshavn)
 \, afgang fredag kl. 15.10\, bustransport rundt på øen\, samt indkvarter
 ing på Gammelgård Feriecenter med fuld forplejning samt 3 botaniske guid
 er. Afgang fra Læsø vil være mandag formiddag kl. 9.40 med ankomst til 
 Frederikshavn ca. kl. 11.10\n\nTilmelding sker efter ’først til mølle
 ’ princippet med indbetaling af et depositum på 1.200 kr./900 kr. for s
 tuderende til Rønde og Omegns Sparekasse reg. nr. 9354 kontonr. 000019277
 5 – mrk. ’dit navn - Læsø’. Samtidig (med samme frist) foretages s
 kriftlig tilmelding til Peter Wind\, Moesbakken 19\, 8410 Rønde\, tlf. 87
 914110 (aften) eller med e-mail til pw @ roendesnet.dk. Oplys venligst dit
  navn i tilmeldingen med adresse og telefon\, samt e-mail. De tilmeldte vi
 l modtage en kvittering\, når depositum er indgået. Sidste frist for til
 melding og indbetaling af depositum er 1. februar 2017\, hvor et mere udf
 ørligt program med oplysning om slutbetaling vil blive fremsendt.\n\nPete
 r Wind koordinerer fællestransport i det omfang\, det er muligt. Derfor b
 edes bilister med ekstra plads ved tilmelding oplyse antallet af andre med
 passagerer.\n\n\n\n\n\n\nTurledere: Louise Jensen\, Ditte Arp &amp\; Peter
  Wind\n\n\n\n
CATEGORIES:Større ture
LOCATION:Læsø\, Østerbyvejen 8A\, Læsø\, Læsø\, 9940\, Denmark
GEO:57.2625811;11.016031399999974
X-APPLE-STRUCTURED-LOCATION;VALUE=URI;X-ADDRESS=Østerbyvejen 8A\, Læsø\,
  Læsø\, 9940\, Denmark;X-APPLE-RADIUS=100;X-TITLE=Læsø:geo:57.2625811,
 11.016031399999974
END:VEVENT
BEGIN:VTIMEZONE
TZID:Europe/Copenhagen
X-LIC-LOCATION:Europe/Copenhagen
BEGIN:DAYLIGHT
DTSTART:20170326T030000
TZOFFSETFROM:+0100
TZOFFSETTO:+0200
TZNAME:CEST
END:DAYLIGHT
END:VTIMEZONE
END:VCALENDAR