BEGIN:VCALENDAR
VERSION:2.0
PRODID:-//wp-events-plugin.com//7.2.3.1//EN
TZID:Europe/Copenhagen
X-WR-TIMEZONE:Europe/Copenhagen
BEGIN:VEVENT
UID:684@botaniskforening.dk
DTSTART;TZID=Europe/Copenhagen:20240229T193000
DTEND;TZID=Europe/Copenhagen:20240229T213000
DTSTAMP:20231012T193801Z
URL:https://botaniskforening.dk/arrangement/generalforsamling_oestkredsen_
 2024/
SUMMARY:Generalforsamling i Østkredsen 2024
DESCRIPTION:Dansk Botanisk Forenings Østkreds holder ordinær generalforsa
 mling torsdag den 29. februar kl. 19.30.\n\nGeneralforsamlingen følger ve
 dtægter\, http://botaniskforening.dk/ostkredsen/.\n\nEvt. forslag skal v
 ære os i hænde senest den 15. januar på kontor@botaniskforening.dk. Eft
 er generalforsamlingen fortæller Søren Grøntved om og viser fotos fra 
 årets ture. Formanden for ekskursionsudvalget\, Thure Hauser\, løfter sl
 øret for\, hvad der venter os af botanikture i 2024.
CATEGORIES:Generalforsamlinger,Østkredsen
LOCATION:Auditorium A\, Bygning 1\, Universitetsparken 15\, København Ø\,
  Universitetsparken 15\, København Ø\, København\, 2100\, Sjælland\, D
 enmark
GEO:55.702448;12.559411
X-APPLE-STRUCTURED-LOCATION;VALUE=URI;X-ADDRESS=Universitetsparken 15\, Kø
 benhavn Ø\, København\, 2100\, Sjælland\, Denmark;X-APPLE-RADIUS=100;X-
 TITLE=Auditorium A\, Bygning 1\, Universitetsparken 15\, København Ø:geo
 :55.702448,12.559411
END:VEVENT
BEGIN:VTIMEZONE
TZID:Europe/Copenhagen
X-LIC-LOCATION:Europe/Copenhagen
BEGIN:STANDARD
DTSTART:20231029T020000
TZOFFSETFROM:+0200
TZOFFSETTO:+0100
TZNAME:CET
END:STANDARD
END:VTIMEZONE
END:VCALENDAR