BEGIN:VCALENDAR
VERSION:2.0
PRODID:-//wp-events-plugin.com//7.2.3.1//EN
TZID:Europe/Copenhagen
X-WR-TIMEZONE:Europe/Copenhagen
BEGIN:VEVENT
UID:430@botaniskforening.dk
DTSTART;TZID=Europe/Copenhagen:20210320T160000
DTEND;TZID=Europe/Copenhagen:20210320T173000
DTSTAMP:20210312T151433Z
URL:https://botaniskforening.dk/arrangement/generalforsamling-2021/
SUMMARY:Generalforsamling 2021
DESCRIPTION:Pga. de fortsatte restriktioner vedrørende corona afholder vi 
 igen i år en online general generalforsamling (uden botanikdag eller fagl
 ige oplæg).\nTilmeld dig her\nDagsorden (som følger vedtægterne)\n\n 	V
 alg af dirigent\n 	Beretning om foreningens virksomhed\n 	 Fremlæggelse 
 af det reviderede regnskab\n 	Valg af formand\nEva Kullberg er på valg (v
 illig til genvalg)\n 	Valg af ordinære medlemmer af hovedbestyrelsen. På
  valg er:\nClaus Helweg Ovesen\nPeter Lindberg Jannerup\nJakob Hermann\nId
 a Bomholt Dyrholm Jacobsen\n(Alle 4 er villige til genvalg)\n 	Valg af 2 r
 evisorer og en revisor-suppleant\n\nValgene gælder for 2 år. Genvalg kan
  finde sted.
CATEGORIES:Online,URT og foreningen
LOCATION:https://zoom.us/meeting/register/tJIqfu6prTItGdwMQyHciFm9_-HZjHs_i
 qhZ
END:VEVENT
BEGIN:VTIMEZONE
TZID:Europe/Copenhagen
X-LIC-LOCATION:Europe/Copenhagen
BEGIN:STANDARD
DTSTART:20201025T020000
TZOFFSETFROM:+0200
TZOFFSETTO:+0100
TZNAME:CET
END:STANDARD
END:VTIMEZONE
END:VCALENDAR