BEGIN:VCALENDAR
VERSION:2.0
PRODID:-//wp-events-plugin.com//7.2.3.1//EN
TZID:Europe/Copenhagen
X-WR-TIMEZONE:Europe/Copenhagen
BEGIN:VEVENT
UID:573@botaniskforening.dk
DTSTART;TZID=Europe/Copenhagen;VALUE=DATE:20400412
DTEND;TZID=Europe/Copenhagen;VALUE=DATE:20400413
DTSTAMP:20220204T120106Z
URL:https://botaniskforening.dk/arrangement/foreningens-200-aars-jubilaeum
 /
SUMMARY:Foreningens 200 års jubilæum
DESCRIPTION:Foreningen blev stiftet d. 12. april 1840.\n\nLæs mere om fore
 ningens historie her.
CATEGORIES:URT og foreningen
END:VEVENT
BEGIN:VTIMEZONE
TZID:Europe/Copenhagen
X-LIC-LOCATION:Europe/Copenhagen
BEGIN:DAYLIGHT
DTSTART:20400325T030000
TZOFFSETFROM:+0100
TZOFFSETTO:+0200
TZNAME:CEST
END:DAYLIGHT
END:VTIMEZONE
END:VCALENDAR