BEGIN:VCALENDAR
VERSION:2.0
PRODID:-//wp-events-plugin.com//7.2.3.1//EN
TZID:Europe/Copenhagen
X-WR-TIMEZONE:Europe/Copenhagen
BEGIN:VEVENT
UID:69@botaniskforening.dk
DTSTART;TZID=Europe/Copenhagen:20160806T080000
DTEND;TZID=Europe/Copenhagen:20160806T180000
DTSTAMP:20160627T183028Z
URL:https://botaniskforening.dk/arrangement/ekskursion-til-filso/
SUMMARY:Ekskursion til Filsø
DESCRIPTION:Lørdag d. 6. august.\n\nKl. 8-18.\n\nTurleder Peter Holm og Bj
 arne Moeslund.\n\nBotaniske mirakler i den genoprettede Filsø (se artikel
  i URT).\n\nSkriftlig tilmelding nødvendig til Eva Kullberg\, mail@evaku
 llberg.dk. Evt. info: 21698223 eller 86278485\n\nFælles busafgang fra Mus
 ikhuset Aarhus kl. 8. Tilbage kl. 18.\n\n( Evt. alternativ befordring mød
 ested Filsø Avlsgård kl. ca. 10.30 (sluttidspunkt ved Filsø kl. 15.30)
   kun efter aftale med Eva Kullberg\n\nVed 25 deltagere pris 110 kr for b
 ustransport incl. kaffe/te og rundstykke i bussen.\n\nMedbring madpakke m.
 m.
CATEGORIES:Jyllandskredsen
LOCATION:Fælles busafgang fra Musikhuset Aarhus\, Thomas Jensens Allé 2\,
  Aarhus C\, Denmark
GEO:56.152717;10.199268899999993
X-APPLE-STRUCTURED-LOCATION;VALUE=URI;X-ADDRESS=Thomas Jensens Allé 2\, Aa
 rhus C\, Denmark;X-APPLE-RADIUS=100;X-TITLE=Fælles busafgang fra Musikhus
 et Aarhus:geo:56.152717,10.199268899999993
END:VEVENT
BEGIN:VTIMEZONE
TZID:Europe/Copenhagen
X-LIC-LOCATION:Europe/Copenhagen
BEGIN:DAYLIGHT
DTSTART:20160327T030000
TZOFFSETFROM:+0100
TZOFFSETTO:+0200
TZNAME:CEST
END:DAYLIGHT
END:VTIMEZONE
END:VCALENDAR